BEGIN:VCALENDAR
VERSION:2.0
PRODID:-//Windm&uuml;hle Siebenb&auml;umen e.V. - ECPv6.15.20//NONSGML v1.0//EN
CALSCALE:GREGORIAN
METHOD:PUBLISH
X-WR-CALNAME:Windm&uuml;hle Siebenb&auml;umen e.V.
X-ORIGINAL-URL:https://windmuehle-siebenbaeumen.de
X-WR-CALDESC:Veranstaltungen für Windm&uuml;hle Siebenb&auml;umen e.V.
REFRESH-INTERVAL;VALUE=DURATION:PT1H
X-Robots-Tag:noindex
X-PUBLISHED-TTL:PT1H
BEGIN:VTIMEZONE
TZID:Europe/Berlin
BEGIN:DAYLIGHT
TZOFFSETFROM:+0100
TZOFFSETTO:+0200
TZNAME:CEST
DTSTART:20250330T010000
END:DAYLIGHT
BEGIN:STANDARD
TZOFFSETFROM:+0200
TZOFFSETTO:+0100
TZNAME:CET
DTSTART:20251026T010000
END:STANDARD
BEGIN:DAYLIGHT
TZOFFSETFROM:+0100
TZOFFSETTO:+0200
TZNAME:CEST
DTSTART:20260329T010000
END:DAYLIGHT
BEGIN:STANDARD
TZOFFSETFROM:+0200
TZOFFSETTO:+0100
TZNAME:CET
DTSTART:20261025T010000
END:STANDARD
BEGIN:DAYLIGHT
TZOFFSETFROM:+0100
TZOFFSETTO:+0200
TZNAME:CEST
DTSTART:20270328T010000
END:DAYLIGHT
BEGIN:STANDARD
TZOFFSETFROM:+0200
TZOFFSETTO:+0100
TZNAME:CET
DTSTART:20271031T010000
END:STANDARD
END:VTIMEZONE
BEGIN:VEVENT
DTSTART;TZID=Europe/Berlin:20260731T193000
DTEND;TZID=Europe/Berlin:20260731T220000
DTSTAMP:20260422T123234
CREATED:20260107T084911Z
LAST-MODIFIED:20260107T115028Z
UID:1456-1785526200-1785535200@windmuehle-siebenbaeumen.de
SUMMARY:Schlagerparty mit CARO - OPENAIR ( Hutgage )
DESCRIPTION:Schlagerparty mit CARO – OPENAIR ( Hutgage ) \nFreitag 31.07.2026 \nEinlass: !9 Uhr \nBeginn: 19.30 Uhr \n \nWeil es so schön war und wir Schlager lieben\, hier Runde 2! \nWeitere Infos folgen!
URL:https://windmuehle-siebenbaeumen.de/event/schlagerparty-mit-caro-openair-hutgage/
LOCATION:Windmühle Siebenbäumen\, Mühlenstraße 18a\, Siebenbäumen\, 23847\, Deutschland
ORGANIZER;CN="Windm%C3%BChle Siebenb%C3%A4umen e.V.":MAILTO:windmuehle.siebenbaeumen@outlook.de
END:VEVENT
END:VCALENDAR